BEGIN:VCALENDAR
VERSION:2.0
PRODID:-//pretix//ConnecTeens_Ticketing//
BEGIN:VEVENT
UID:pretix-connecteens-RYSC-CLUB-77@ticketing.connecteens.org
DTSTART;VALUE=DATE:20250223
DTEND;VALUE=DATE:20250224
DESCRIPTION:Tickets: https://ticketing.connecteens.org/connecteens/RYSC-CLU
 B/77/\nOrganizer: ConnecTeens
DTSTAMP:20260421T223436Z
SUMMARY:Romanian Youth Space Club - Feb. 23\, 2025
END:VEVENT
END:VCALENDAR
