BEGIN:VCALENDAR
VERSION:2.0
PRODID:-//pretix//ConnecTeens_Ticketing//
BEGIN:VEVENT
UID:pretix-connecteens-RYSC-CLUB-76@ticketing.connecteens.org
DTSTART;VALUE=DATE:20250201
DTEND;VALUE=DATE:20250202
DESCRIPTION:Tickets: https://ticketing.connecteens.org/connecteens/RYSC-CLU
 B/76/\nOrganizer: ConnecTeens
DTSTAMP:20260421T235519Z
SUMMARY:Romanian Youth Space Club - Feb. 01\, 2025
END:VEVENT
END:VCALENDAR
