BEGIN:VCALENDAR
VERSION:2.0
PRODID:-//pretix//ConnecTeens_Ticketing//
BEGIN:VTIMEZONE
TZID:Europe/Bucharest
BEGIN:STANDARD
DTSTART:20001029T050000
RRULE:FREQ=YEARLY;BYDAY=-1SU;BYMONTH=10
TZNAME:EET
TZOFFSETFROM:+0300
TZOFFSETTO:+0200
END:STANDARD
BEGIN:DAYLIGHT
DTSTART:20000326T040000
RRULE:FREQ=YEARLY;BYDAY=-1SU;BYMONTH=3
TZNAME:EEST
TZOFFSETFROM:+0200
TZOFFSETTO:+0300
END:DAYLIGHT
END:VTIMEZONE
BEGIN:VEVENT
UID:pretix-connecteens-RYHC-CLUB-20@ticketing.connecteens.org
DTSTART;TZID=Europe/Bucharest:20240615T133000
DTEND;TZID=Europe/Bucharest:20240615T150000
DESCRIPTION:Tickets: https://ticketing.connecteens.org/connecteens/RYHC-CLU
 B/20/\nAdmission: 2024-06-15 13:30\nOrganizer: ConnecTeens
DTSTAMP:20260422T125734Z
LOCATION:Chocoloco Floreasca\, Strada Ceaikovski Nr.9\, Bucuresti 020261\, 
 Romania
SUMMARY:Romanian Youth Hospitality Club - Jun. 15\, 2024
END:VEVENT
END:VCALENDAR
