BEGIN:VCALENDAR
VERSION:2.0
PRODID:-//pretix//ConnecTeens_Ticketing//
BEGIN:VTIMEZONE
TZID:Europe/Bucharest
BEGIN:STANDARD
DTSTART:20001029T050000
RRULE:FREQ=YEARLY;BYDAY=-1SU;BYMONTH=10
TZNAME:EET
TZOFFSETFROM:+0300
TZOFFSETTO:+0200
END:STANDARD
BEGIN:DAYLIGHT
DTSTART:20000326T040000
RRULE:FREQ=YEARLY;BYDAY=-1SU;BYMONTH=3
TZNAME:EEST
TZOFFSETFROM:+0200
TZOFFSETTO:+0300
END:DAYLIGHT
END:VTIMEZONE
BEGIN:VEVENT
UID:pretix-connecteens-RYHC-CLUB-18@ticketing.connecteens.org
DTSTART;TZID=Europe/Bucharest:20240511T130000
DTEND;TZID=Europe/Bucharest:20240511T143000
DESCRIPTION:Tickets: https://ticketing.connecteens.org/connecteens/RYHC-CLU
 B/18/\nAdmission: 2024-05-11 13:00\nOrganizer: ConnecTeens
DTSTAMP:20260422T142111Z
LOCATION:Pescariu Sports & SPA\, Strada Glodeni 1-3\, Bucuresti 023824\, Ro
 mania
SUMMARY:Romanian Youth Hospitality Club - May. 11\, 2024
END:VEVENT
END:VCALENDAR
