BEGIN:VCALENDAR
VERSION:2.0
PRODID:-//pretix//ConnecTeens_Ticketing//
BEGIN:VTIMEZONE
TZID:Europe/Bucharest
BEGIN:STANDARD
DTSTART:20001029T050000
RRULE:FREQ=YEARLY;BYDAY=-1SU;BYMONTH=10
TZNAME:EET
TZOFFSETFROM:+0300
TZOFFSETTO:+0200
END:STANDARD
BEGIN:DAYLIGHT
DTSTART:20000326T040000
RRULE:FREQ=YEARLY;BYDAY=-1SU;BYMONTH=3
TZNAME:EEST
TZOFFSETFROM:+0200
TZOFFSETTO:+0300
END:DAYLIGHT
END:VTIMEZONE
BEGIN:VEVENT
UID:pretix-connecteens-RYHC-CLUB-16@ticketing.connecteens.org
DTSTART;TZID=Europe/Bucharest:20240413T110000
DTEND;TZID=Europe/Bucharest:20240413T123000
DESCRIPTION:Tickets: https://ticketing.connecteens.org/connecteens/RYHC-CLU
 B/16/\nAdmission: 2024-04-20 10:30\nOrganizer: ConnecTeens
DTSTAMP:20260422T155528Z
LOCATION:Mara Mura Floreasca\, ONE CITY FLOREASCA\, Cladirea T2\, parter\, 
 Calea Floreasca 159-165\, București 014459\, Romania
SUMMARY:Romanian Youth Hospitality Club - Apr. 13\, 2024
END:VEVENT
END:VCALENDAR
