BEGIN:VCALENDAR
VERSION:2.0
PRODID:-//pretix//ConnecTeens_Ticketing//
BEGIN:VTIMEZONE
TZID:Europe/Bucharest
BEGIN:STANDARD
DTSTART:20001029T050000
RRULE:FREQ=YEARLY;BYDAY=-1SU;BYMONTH=10
TZNAME:EET
TZOFFSETFROM:+0300
TZOFFSETTO:+0200
END:STANDARD
BEGIN:DAYLIGHT
DTSTART:20000326T040000
RRULE:FREQ=YEARLY;BYDAY=-1SU;BYMONTH=3
TZNAME:EEST
TZOFFSETFROM:+0200
TZOFFSETTO:+0300
END:DAYLIGHT
END:VTIMEZONE
BEGIN:VEVENT
UID:pretix-connecteens-RYHC-CLUB-11@ticketing.connecteens.org
DTSTART;TZID=Europe/Bucharest:20240203T110000
DTEND;TZID=Europe/Bucharest:20240203T123000
DESCRIPTION:Tickets: https://ticketing.connecteens.org/connecteens/RYHC-CLU
 B/11/\nAdmission: 2024-02-10 10:30\nOrganizer: ConnecTeens
DTSTAMP:20260422T184903Z
LOCATION:Chocoloco Floreasca\, Strada Ceaikovski Nr.9\, Bucuresti 020261\, 
 Romania
SUMMARY:Romanian Youth Hospitality Club - Feb. 03\, 2024
END:VEVENT
END:VCALENDAR
