BEGIN:VCALENDAR
VERSION:2.0
PRODID:-//pretix//ConnecTeens_Ticketing//
BEGIN:VEVENT
UID:pretix-connecteens-ROMUN-CLUB-32@ticketing.connecteens.org
DTSTART;VALUE=DATE:20240704
DTEND;VALUE=DATE:20240705
DESCRIPTION:Tickets: https://ticketing.connecteens.org/connecteens/ROMUN-CL
 UB/32/\nAdmission: 2024-07-04 14:00\nOrganizer: ConnecTeens
DTSTAMP:20260422T111609Z
LOCATION:"Cotroceni" National Museum\, Bulevardul Geniului 1-3\, Bucuresti 
 060116\, Romania
SUMMARY:Romanian Model United Nations Club - Jul. 04\, 2024
END:VEVENT
END:VCALENDAR
