BEGIN:VCALENDAR
VERSION:2.0
PRODID:-//pretix//ConnecTeens_Ticketing//
BEGIN:VEVENT
UID:pretix-connecteens-ROMUN-CLUB-31@ticketing.connecteens.org
DTSTART;VALUE=DATE:20240613
DTEND;VALUE=DATE:20240614
DESCRIPTION:Tickets: https://ticketing.connecteens.org/connecteens/ROMUN-CL
 UB/31/\nAdmission: 2024-06-13 15:00\nOrganizer: ConnecTeens
DTSTAMP:20260422T124758Z
LOCATION:Primaria Sectorului 1\, Bulevardul Banu Manta 9\, Bucuresti
SUMMARY:Romanian Model United Nations Club - Jun. 13\, 2024
END:VEVENT
END:VCALENDAR
