BEGIN:VCALENDAR
VERSION:2.0
PRODID:-//pretix//ConnecTeens_Ticketing//
BEGIN:VEVENT
UID:pretix-connecteens-ROMUN-CLUB-30@ticketing.connecteens.org
DTSTART;VALUE=DATE:20240530
DTEND;VALUE=DATE:20240531
DESCRIPTION:Tickets: https://ticketing.connecteens.org/connecteens/ROMUN-CL
 UB/30/\nAdmission: 2024-05-30 15:00\nOrganizer: ConnecTeens
DTSTAMP:20260422T142104Z
LOCATION:Primaria Sectorului 1\, Bulevardul Banu Manta 9\, Bucuresti
SUMMARY:Romanian Model United Nations Club - May. 30\, 2024
END:VEVENT
END:VCALENDAR
