BEGIN:VCALENDAR
VERSION:2.0
PRODID:-//pretix//ConnecTeens_Ticketing//
BEGIN:VEVENT
UID:pretix-connecteens-ROMUN-CLUB-29@ticketing.connecteens.org
DTSTART;VALUE=DATE:20240516
DTEND;VALUE=DATE:20240517
DESCRIPTION:Tickets: https://ticketing.connecteens.org/connecteens/ROMUN-CL
 UB/29/\nAdmission: 2024-05-16 15:00\nOrganizer: ConnecTeens
DTSTAMP:20260422T143016Z
LOCATION:Primaria Sectorului 1\, Bulevardul Banu Manta 9\, Bucuresti
SUMMARY:Romanian Model United Nations Club - May. 16\, 2024
END:VEVENT
END:VCALENDAR
