BEGIN:VCALENDAR
VERSION:2.0
PRODID:-//pretix//ConnecTeens_Ticketing//
BEGIN:VTIMEZONE
TZID:Europe/Bucharest
BEGIN:STANDARD
DTSTART:20001029T050000
RRULE:FREQ=YEARLY;BYDAY=-1SU;BYMONTH=10
TZNAME:EET
TZOFFSETFROM:+0300
TZOFFSETTO:+0200
END:STANDARD
BEGIN:DAYLIGHT
DTSTART:20000326T040000
RRULE:FREQ=YEARLY;BYDAY=-1SU;BYMONTH=3
TZNAME:EEST
TZOFFSETFROM:+0200
TZOFFSETTO:+0300
END:DAYLIGHT
END:VTIMEZONE
BEGIN:VEVENT
UID:pretix-connecteens-RCWHO-CLUB-21@ticketing.connecteens.org
DTSTART;TZID=Europe/Bucharest:20240503T000000
DTEND;TZID=Europe/Bucharest:20240601T000000
DESCRIPTION:Tickets: https://ticketing.connecteens.org/connecteens/RCWHO-CL
 UB/21/\nOrganizer: ConnecTeens
DTSTAMP:20260422T124947Z
LOCATION:"Matei Bals" National Institute of Infectious Diseases\, Strada Do
 ctor Calistrat Grozovici 1\, Bucuresti 021105\, Romania
SUMMARY:Romanian Conference World Health Organization Club - May. 02\, 2024
END:VEVENT
END:VCALENDAR
