BEGIN:VCALENDAR
VERSION:2.0
PRODID:-//pretix//ConnecTeens_Ticketing//
BEGIN:VEVENT
UID:pretix-connecteens-PSYC-CLUB-83@ticketing.connecteens.org
DTSTART;VALUE=DATE:20250807
DTEND;VALUE=DATE:20250808
DESCRIPTION:Tickets: https://ticketing.connecteens.org/connecteens/PSYC-CLU
 B/83/\nOrganizer: ConnecTeens
DTSTAMP:20260421T152423Z
SUMMARY:Psychology and Sociology Youth Club - Aug. 07\, 2025
END:VEVENT
END:VCALENDAR
