BEGIN:VCALENDAR
VERSION:2.0
PRODID:-//pretix//ConnecTeens_Ticketing//
BEGIN:VEVENT
UID:pretix-connecteens-PSYC-CLUB-82@ticketing.connecteens.org
DTSTART;VALUE=DATE:20250428
DTEND;VALUE=DATE:20250429
DESCRIPTION:Tickets: https://ticketing.connecteens.org/connecteens/PSYC-CLU
 B/82/\nOrganizer: ConnecTeens
DTSTAMP:20260421T211625Z
SUMMARY:Psychology and Sociology Youth Club - Apr. 28\, 2025
END:VEVENT
END:VCALENDAR
