BEGIN:VCALENDAR
VERSION:2.0
PRODID:-//pretix//ConnecTeens_Ticketing//
BEGIN:VEVENT
UID:pretix-connecteens-PSYC-CLUB-81@ticketing.connecteens.org
DTSTART;VALUE=DATE:20250302
DTEND;VALUE=DATE:20250303
DESCRIPTION:Tickets: https://ticketing.connecteens.org/connecteens/PSYC-CLU
 B/81/\nOrganizer: ConnecTeens
DTSTAMP:20260421T223451Z
SUMMARY:Psychology and Sociology Youth Club - Mar. 02\, 2025
END:VEVENT
END:VCALENDAR
