BEGIN:VCALENDAR
VERSION:2.0
PRODID:-//pretix//ConnecTeens_Ticketing//
BEGIN:VEVENT
UID:pretix-connecteens-PSYC-CLUB-80@ticketing.connecteens.org
DTSTART;VALUE=DATE:20250209
DTEND;VALUE=DATE:20250210
DESCRIPTION:Tickets: https://ticketing.connecteens.org/connecteens/PSYC-CLU
 B/80/\nOrganizer: ConnecTeens
DTSTAMP:20260422T000006Z
SUMMARY:Psychology and Sociology Youth Club - Feb. 09\, 2025
END:VEVENT
END:VCALENDAR
