BEGIN:VCALENDAR
VERSION:2.0
PRODID:-//pretix//ConnecTeens_Ticketing//
BEGIN:VEVENT
UID:pretix-connecteens-PSYC-CLUB-79@ticketing.connecteens.org
DTSTART;VALUE=DATE:20250119
DTEND;VALUE=DATE:20250120
DESCRIPTION:Tickets: https://ticketing.connecteens.org/connecteens/PSYC-CLU
 B/79/\nOrganizer: ConnecTeens
DTSTAMP:20260422T011641Z
SUMMARY:Psychology and Sociology Youth Club - Jan. 19\, 2025
END:VEVENT
END:VCALENDAR
