BEGIN:VCALENDAR
VERSION:2.0
PRODID:-//pretix//ConnecTeens_Ticketing//
BEGIN:VTIMEZONE
TZID:Europe/Bucharest
BEGIN:STANDARD
DTSTART:20001029T050000
RRULE:FREQ=YEARLY;BYDAY=-1SU;BYMONTH=10
TZNAME:EET
TZOFFSETFROM:+0300
TZOFFSETTO:+0200
END:STANDARD
BEGIN:DAYLIGHT
DTSTART:20000326T040000
RRULE:FREQ=YEARLY;BYDAY=-1SU;BYMONTH=3
TZNAME:EEST
TZOFFSETFROM:+0200
TZOFFSETTO:+0300
END:DAYLIGHT
END:VTIMEZONE
BEGIN:VEVENT
UID:pretix-connecteens-Lifestyle-CLUB-43@ticketing.connecteens.org
DTSTART;TZID=Europe/Bucharest:20250118T120000
DTEND;TZID=Europe/Bucharest:20250118T133000
DESCRIPTION:Tickets: https://ticketing.connecteens.org/connecteens/Lifestyl
 e-CLUB/43/\nOrganizer: ConnecTeens
DTSTAMP:20260422T024038Z
LOCATION:Disco Fit Club\, Splaiul Unirii 160\, Recul\, Bucuresti\, Romania
SUMMARY:Lifestyle & Sport Club - Jan. 18\, 2025
END:VEVENT
END:VCALENDAR
