BEGIN:VCALENDAR
VERSION:2.0
PRODID:-//pretix//ConnecTeens_Ticketing//
BEGIN:VTIMEZONE
TZID:Europe/Bucharest
BEGIN:STANDARD
DTSTART:20001029T050000
RRULE:FREQ=YEARLY;BYDAY=-1SU;BYMONTH=10
TZNAME:EET
TZOFFSETFROM:+0300
TZOFFSETTO:+0200
END:STANDARD
BEGIN:DAYLIGHT
DTSTART:20000326T040000
RRULE:FREQ=YEARLY;BYDAY=-1SU;BYMONTH=3
TZNAME:EEST
TZOFFSETFROM:+0200
TZOFFSETTO:+0300
END:DAYLIGHT
END:VTIMEZONE
BEGIN:VEVENT
UID:pretix-connecteens-Lifestyle-CLUB-42@ticketing.connecteens.org
DTSTART;TZID=Europe/Bucharest:20241211T160000
DTEND;TZID=Europe/Bucharest:20241211T173000
DESCRIPTION:Tickets: https://ticketing.connecteens.org/connecteens/Lifestyl
 e-CLUB/42/\nOrganizer: ConnecTeens
DTSTAMP:20260422T035516Z
LOCATION:Academia Oamenilor de Stiinta din Romania\, Strada Ilfov 3\, Bucur
 esti 050044\, Romania
SUMMARY:Lifestyle & Sport Club - Dec. 11\, 2024
END:VEVENT
END:VCALENDAR
