BEGIN:VCALENDAR
VERSION:2.0
PRODID:-//pretix//ConnecTeens_Ticketing//
BEGIN:VTIMEZONE
TZID:Europe/Bucharest
BEGIN:STANDARD
DTSTART:20001029T050000
RRULE:FREQ=YEARLY;BYDAY=-1SU;BYMONTH=10
TZNAME:EET
TZOFFSETFROM:+0300
TZOFFSETTO:+0200
END:STANDARD
BEGIN:DAYLIGHT
DTSTART:20000326T040000
RRULE:FREQ=YEARLY;BYDAY=-1SU;BYMONTH=3
TZNAME:EEST
TZOFFSETFROM:+0200
TZOFFSETTO:+0300
END:DAYLIGHT
END:VTIMEZONE
BEGIN:VEVENT
UID:pretix-connecteens-Lifestyle-CLUB-35@ticketing.connecteens.org
DTSTART;TZID=Europe/Bucharest:20240719T103000
DTEND;TZID=Europe/Bucharest:20240719T120000
DESCRIPTION:Tickets: https://ticketing.connecteens.org/connecteens/Lifestyl
 e-CLUB/35/\nAdmission: 2024-07-19 10:30\nOrganizer: ConnecTeens
DTSTAMP:20260422T111633Z
LOCATION:Muzeul Sportului\, Bulevardul Marasti 20A\, Bucuresti 011468\, Rom
 ania
SUMMARY:Lifestyle & Sport Club - Jul. 19\, 2024
END:VEVENT
END:VCALENDAR
