BEGIN:VCALENDAR
VERSION:2.0
PRODID:-//pretix//ConnecTeens_Ticketing//
BEGIN:VTIMEZONE
TZID:Europe/Bucharest
BEGIN:STANDARD
DTSTART:20001029T050000
RRULE:FREQ=YEARLY;BYDAY=-1SU;BYMONTH=10
TZNAME:EET
TZOFFSETFROM:+0300
TZOFFSETTO:+0200
END:STANDARD
BEGIN:DAYLIGHT
DTSTART:20000326T040000
RRULE:FREQ=YEARLY;BYDAY=-1SU;BYMONTH=3
TZNAME:EEST
TZOFFSETFROM:+0200
TZOFFSETTO:+0300
END:DAYLIGHT
END:VTIMEZONE
BEGIN:VEVENT
UID:pretix-connecteens-CoMedia-CLUB-24@ticketing.connecteens.org
DTSTART;TZID=Europe/Bucharest:20240330T150000
DTEND;TZID=Europe/Bucharest:20240330T163000
DESCRIPTION:Tickets: https://ticketing.connecteens.org/connecteens/CoMedia-
 CLUB/24/\nAdmission: 2024-03-30 14:45\nOrganizer: ConnecTeens
DTSTAMP:20260422T172203Z
LOCATION:Publicis Romania HQ\, Strada Nicolae Iorga 13\, Bucuresti 010431\,
  Romania
SUMMARY:CoMedia Club - Mar. 30\, 2024
END:VEVENT
END:VCALENDAR
