BEGIN:VCALENDAR
VERSION:2.0
PRODID:-//pretix//ConnecTeens_Ticketing//
BEGIN:VTIMEZONE
TZID:Europe/Bucharest
BEGIN:STANDARD
DTSTART:20001029T050000
RRULE:FREQ=YEARLY;BYDAY=-1SU;BYMONTH=10
TZNAME:EET
TZOFFSETFROM:+0300
TZOFFSETTO:+0200
END:STANDARD
BEGIN:DAYLIGHT
DTSTART:20000326T040000
RRULE:FREQ=YEARLY;BYDAY=-1SU;BYMONTH=3
TZNAME:EEST
TZOFFSETFROM:+0200
TZOFFSETTO:+0300
END:DAYLIGHT
END:VTIMEZONE
BEGIN:VEVENT
UID:pretix-connecteens-B4Y-1-0@ticketing.connecteens.org
DTSTART;TZID=Europe/Bucharest:20260524T093000
DTEND;TZID=Europe/Bucharest:20260524T180000
DESCRIPTION:Tickets: https://ticketing.connecteens.org/connecteens/B4Y-1/\n
 Admission: 2026-05-10 09:00\nOrganizer: ConnecTeens
DTSTAMP:20260423T234731Z
LOCATION:TERRA Events\, Bulevardul Lacul Tei 1 bis\, 020371 București\, Ro
 mania
SUMMARY:Business 4 Youth Conference
END:VEVENT
END:VCALENDAR
