BEGIN:VCALENDAR
VERSION:2.0
PRODID:-//pretix//ConnecTeens_Ticketing//
BEGIN:VTIMEZONE
TZID:Europe/Bucharest
BEGIN:STANDARD
DTSTART:20001029T050000
RRULE:FREQ=YEARLY;BYDAY=-1SU;BYMONTH=10
TZNAME:EET
TZOFFSETFROM:+0300
TZOFFSETTO:+0200
END:STANDARD
BEGIN:DAYLIGHT
DTSTART:20000326T040000
RRULE:FREQ=YEARLY;BYDAY=-1SU;BYMONTH=3
TZNAME:EEST
TZOFFSETFROM:+0200
TZOFFSETTO:+0300
END:DAYLIGHT
END:VTIMEZONE
BEGIN:VEVENT
UID:pretix-connecteens-AttrACT-1-46@ticketing.connecteens.org
DTSTART;TZID=Europe/Bucharest:20250316T160000
DTEND;TZID=Europe/Bucharest:20250316T170000
DESCRIPTION:Bilete: https://ticketing.connecteens.org/connecteens/AttrACT-1
 /46/\nOrganizator: ConnecTeens
DTSTAMP:20260421T235253Z
LOCATION:Calea Plevnei 59A\, București 010223\, Romania
SUMMARY:AttrACT - March 16 2025
END:VEVENT
END:VCALENDAR
